BEGIN:VCALENDAR
VERSION:2.0
PRODID:-//Plone.org//NONSGML plone.app.event//EN
X-WR-TIMEZONE:Europe/Berlin
BEGIN:VEVENT
SUMMARY:Plone-Tagung vom 9.–11. März 2020 in Dresden
DTSTART;TZID=Europe/Berlin;VALUE=DATE-TIME:20200309T000000
DTEND;TZID=Europe/Berlin;VALUE=DATE-TIME:20200311T000000
DTSTAMP;VALUE=DATE-TIME:20260422T133832Z
UID:32869950aacf4760baff0afde3af8cc4@old.cusy.io
CONTACT:Veit Schiele\, +49 30 22430082\, info@cusy.io
CREATED;VALUE=DATE-TIME:20210610T100252Z
LAST-MODIFIED;VALUE=DATE-TIME:20210915T131552Z
LOCATION:TU Dresden\, Barkhausen-Bau\, Helmholtzstr. 18\, 01069 Dresden
URL:https://old.cusy.io/de/ueber/trefft-uns/plone-tagung-vom-9-11-maerz-20
 20-in-dresden
END:VEVENT
BEGIN:VTIMEZONE
TZID:Europe/Berlin
X-LIC-LOCATION:Europe/Berlin
BEGIN:STANDARD
DTSTART;VALUE=DATE-TIME:20191027T020000
TZNAME:CET
TZOFFSETFROM:+0200
TZOFFSETTO:+0100
END:STANDARD
END:VTIMEZONE
END:VCALENDAR
