BEGIN:VCALENDAR
VERSION:2.0
PRODID:-//Plone.org//NONSGML plone.app.event//EN
X-WR-TIMEZONE:Europe/Berlin
BEGIN:VEVENT
SUMMARY:OpenTechSummit 2016 in Berlin
DTSTART;TZID=Europe/Berlin;VALUE=DATE-TIME:20160505T090000
DTEND;TZID=Europe/Berlin;VALUE=DATE-TIME:20160505T230000
DTSTAMP;VALUE=DATE-TIME:20260422T133251Z
UID:5258ff8a6a9d4e96b2825eefa0575b0d@old.cusy.io
ATTENDEE;CN="Veit Schiele";ROLE=REQ-PARTICIPANT:Veit Schiele
CONTACT:Veit Schiele\, +49 30 8185667-1\, info@cusy.io
CREATED;VALUE=DATE-TIME:20210610T100252Z
DESCRIPTION:Am Donnerstag den 5. Mai 2016 (Himmelfahrt)\, findet der zweit
 e deutsche OpenTechSummit in der Kalkscheune in Berlin samt Himmelfahrt-Lo
 unge-Party am Abend statt.
LAST-MODIFIED;VALUE=DATE-TIME:20160502T105801Z
LOCATION:Kalkscheune\, Johannisstr. 2\, 10117 Berlin
URL:https://old.cusy.io/de/ueber/trefft-uns/opentechsummit-2016-in-berlin
END:VEVENT
BEGIN:VTIMEZONE
TZID:Europe/Berlin
X-LIC-LOCATION:Europe/Berlin
BEGIN:DAYLIGHT
DTSTART;VALUE=DATE-TIME:20160327T030000
TZNAME:CEST
TZOFFSETFROM:+0100
TZOFFSETTO:+0200
END:DAYLIGHT
END:VTIMEZONE
END:VCALENDAR
