BEGIN:VCALENDAR
VERSION:2.0
PRODID:-//Plone.org//NONSGML plone.app.event//EN
X-WR-TIMEZONE:Europe/Berlin
BEGIN:VEVENT
SUMMARY:OpenRheinRuhr\, Oberhausen 2015
DTSTART;TZID=Europe/Berlin;VALUE=DATE-TIME:20151107T093000
DTEND;TZID=Europe/Berlin;VALUE=DATE-TIME:20151108T180000
DTSTAMP;VALUE=DATE-TIME:20260422T133545Z
UID:3cc76d40a0264c39a6ca8196b17dccaf@old.cusy.io
ATTENDEE;CN="Veit Schiele";ROLE=REQ-PARTICIPANT:Veit Schiele
ATTENDEE;CN="Peter Hormanns";ROLE=REQ-PARTICIPANT:Peter Hormanns
ATTENDEE;CN="Michael Hierweck";ROLE=REQ-PARTICIPANT:Michael Hierweck
CONTACT:Veit Schiele\, +49 30 8185667-1\, info@cusy.io
CREATED;VALUE=DATE-TIME:20210610T100252Z
LAST-MODIFIED;VALUE=DATE-TIME:20210909T095545Z
LOCATION:Rheinisches Industriemuseum\, Oberhausen
URL:https://old.cusy.io/de/ueber/trefft-uns/openrheinruhr-oberhausen-2015
END:VEVENT
BEGIN:VTIMEZONE
TZID:Europe/Berlin
X-LIC-LOCATION:Europe/Berlin
BEGIN:STANDARD
DTSTART;VALUE=DATE-TIME:20151025T020000
TZNAME:CET
TZOFFSETFROM:+0200
TZOFFSETTO:+0100
END:STANDARD
END:VTIMEZONE
END:VCALENDAR
