BEGIN:VCALENDAR
VERSION:2.0
PRODID:-//Plone.org//NONSGML plone.app.event//EN
X-WR-TIMEZONE:Europe/Berlin
BEGIN:VEVENT
SUMMARY:OpenRheinRuhr\, Oberhausen 2016
DTSTART;TZID=Europe/Berlin;VALUE=DATE-TIME:20161105T093000
DTEND;TZID=Europe/Berlin;VALUE=DATE-TIME:20161106T180000
DTSTAMP;VALUE=DATE-TIME:20260422T133547Z
UID:9eada6efdcc1420592ba22e37582326d@old.cusy.io
ATTENDEE;CN="Veit Schiele";ROLE=REQ-PARTICIPANT:Veit Schiele
ATTENDEE;CN="Peter Hormanns";ROLE=REQ-PARTICIPANT:Peter Hormanns
ATTENDEE;CN="Michael Hierweck";ROLE=REQ-PARTICIPANT:Michael Hierweck
CONTACT:Veit Schiele\, +49 30 8185667-1\, info@cusy.io
CREATED;VALUE=DATE-TIME:20210610T100251Z
LAST-MODIFIED;VALUE=DATE-TIME:20210909T094444Z
LOCATION:Rheinisches Industriemuseum\, Oberhausen
URL:https://old.cusy.io/de/ueber/trefft-uns/openrheinruhr-2016-oberhausen
END:VEVENT
BEGIN:VTIMEZONE
TZID:Europe/Berlin
X-LIC-LOCATION:Europe/Berlin
BEGIN:STANDARD
DTSTART;VALUE=DATE-TIME:20161030T020000
TZNAME:CET
TZOFFSETFROM:+0200
TZOFFSETTO:+0100
END:STANDARD
END:VTIMEZONE
END:VCALENDAR
