BEGIN:VCALENDAR
VERSION:2.0
PRODID:-//Plone.org//NONSGML plone.app.event//EN
X-WR-TIMEZONE:Europe/Berlin
BEGIN:VEVENT
SUMMARY:LinuxDay\, Dornbirn 2015
DTSTART;TZID=Europe/Berlin;VALUE=DATE-TIME:20151121T090000
DTEND;TZID=Europe/Berlin;VALUE=DATE-TIME:20151121T170000
DTSTAMP;VALUE=DATE-TIME:20260422T133034Z
UID:e3a378a0216b41478eb728181ae2860f@old.cusy.io
ATTENDEE;CN="Peter Hormanns";ROLE=REQ-PARTICIPANT:Peter Hormanns
CONTACT:Veit Schiele\, +49 30 8185667-1\, info@cusy.io
CREATED;VALUE=DATE-TIME:20210610T100251Z
LAST-MODIFIED;VALUE=DATE-TIME:20210909T095654Z
URL:https://old.cusy.io/de/ueber/trefft-uns/linuxday-dornbirn-2015
END:VEVENT
BEGIN:VTIMEZONE
TZID:Europe/Berlin
X-LIC-LOCATION:Europe/Berlin
BEGIN:STANDARD
DTSTART;VALUE=DATE-TIME:20151025T020000
TZNAME:CET
TZOFFSETFROM:+0200
TZOFFSETTO:+0100
END:STANDARD
END:VTIMEZONE
END:VCALENDAR
