BEGIN:VCALENDAR
VERSION:2.0
PRODID:-//Plone.org//NONSGML plone.app.event//EN
X-WR-TIMEZONE:Europe/Berlin
BEGIN:VEVENT
SUMMARY:Kieler CryptoAdvent
DTSTART;TZID=Europe/Berlin;VALUE=DATE-TIME:20161203T140000
DTEND;TZID=Europe/Berlin;VALUE=DATE-TIME:20161203T170000
DTSTAMP;VALUE=DATE-TIME:20260422T132856Z
UID:65fe2ca67a43438fa46605b7768b9258@old.cusy.io
ATTENDEE;CN="Veit Schiele";ROLE=REQ-PARTICIPANT:Veit Schiele
CONTACT:Veit Schiele\, +49 30 22430082\, info@cusy.io
CREATED;VALUE=DATE-TIME:20210610T100251Z
LAST-MODIFIED;VALUE=DATE-TIME:20180521T150012Z
LOCATION:Kitz\, Schauenburgerstr. 116  24118 Kiel
URL:https://old.cusy.io/de/ueber/trefft-uns/kieler-cryptoadvent
END:VEVENT
BEGIN:VTIMEZONE
TZID:Europe/Berlin
X-LIC-LOCATION:Europe/Berlin
BEGIN:STANDARD
DTSTART;VALUE=DATE-TIME:20161030T020000
TZNAME:CET
TZOFFSETFROM:+0200
TZOFFSETTO:+0100
END:STANDARD
END:VTIMEZONE
END:VCALENDAR
