BEGIN:VCALENDAR
VERSION:2.0
PRODID:-//Plone.org//NONSGML plone.app.event//EN
X-WR-TIMEZONE:Europe/Berlin
BEGIN:VEVENT
SUMMARY:FrOSCon 12\, St. Augustin 2017
DTSTART;TZID=Europe/Berlin;VALUE=DATE-TIME:20170819T090000
DTEND;TZID=Europe/Berlin;VALUE=DATE-TIME:20170820T170000
DTSTAMP;VALUE=DATE-TIME:20260422T133400Z
UID:24bfa32750724c62978ff46798fd6205@old.cusy.io
ATTENDEE;CN="Peter Hormanns";ROLE=REQ-PARTICIPANT:Peter Hormanns
ATTENDEE;CN="Michael Hierweck";ROLE=REQ-PARTICIPANT:Michael Hierweck
CONTACT:Veit Schiele\, +49 30 8185667-1\, info@cusy.io
CREATED;VALUE=DATE-TIME:20210610T100251Z
LAST-MODIFIED;VALUE=DATE-TIME:20210909T100115Z
LOCATION:Hochschule Bonn-Rhein-Sieg\, Grantham-Allee 20\, 53757 Sankt Augu
 stin
URL:https://old.cusy.io/de/ueber/trefft-uns/froscon-12-st-augustin-2017
END:VEVENT
BEGIN:VTIMEZONE
TZID:Europe/Berlin
X-LIC-LOCATION:Europe/Berlin
BEGIN:DAYLIGHT
DTSTART;VALUE=DATE-TIME:20170326T030000
TZNAME:CEST
TZOFFSETFROM:+0100
TZOFFSETTO:+0200
END:DAYLIGHT
END:VTIMEZONE
END:VCALENDAR
