BEGIN:VCALENDAR
VERSION:2.0
PRODID:-//Plone.org//NONSGML plone.app.event//EN
X-WR-TIMEZONE:Europe/Berlin
BEGIN:VEVENT
SUMMARY:FrOSCon 11\, St. Augustin
DTSTART;TZID=Europe/Berlin;VALUE=DATE-TIME:20160820T090000
DTEND;TZID=Europe/Berlin;VALUE=DATE-TIME:20160821T170000
DTSTAMP;VALUE=DATE-TIME:20260422T133312Z
UID:63a42033a6f44990ad64025dfb164158@old.cusy.io
ATTENDEE;CN="Veit Schiele";ROLE=REQ-PARTICIPANT:Veit Schiele
ATTENDEE;CN="Peter Hormanns";ROLE=REQ-PARTICIPANT:Peter Hormanns
ATTENDEE;CN="Michael Hierweck";ROLE=REQ-PARTICIPANT:Michael Hierweck
CONTACT:Veit Schiele\, +49 30 8185667-1\, info@cusy.io
CREATED;VALUE=DATE-TIME:20210610T100250Z
LAST-MODIFIED;VALUE=DATE-TIME:20160731T170240Z
LOCATION:Hochschule Bonn-Rhein-Sieg\, Grantham-Allee 20\, 53757 Sankt Augu
 stin
URL:https://old.cusy.io/de/ueber/trefft-uns/froscon-11-st-augustin
END:VEVENT
BEGIN:VTIMEZONE
TZID:Europe/Berlin
X-LIC-LOCATION:Europe/Berlin
BEGIN:DAYLIGHT
DTSTART;VALUE=DATE-TIME:20160327T030000
TZNAME:CEST
TZOFFSETFROM:+0100
TZOFFSETTO:+0200
END:DAYLIGHT
END:VTIMEZONE
END:VCALENDAR
