BEGIN:VCALENDAR
VERSION:2.0
PRODID:-//Plone.org//NONSGML plone.app.event//EN
X-WR-TIMEZONE:Europe/Berlin
BEGIN:VEVENT
SUMMARY:FastAPI-Sprint 2024\, Freiburg
DTSTART;VALUE=DATE:20240403
DTEND;VALUE=DATE:20240406
DTSTAMP;VALUE=DATE-TIME:20260422T133120Z
UID:38f97acadba7491091cb375716251f88@old.cusy.io
ATTENDEE;CN="Veit Schiele";ROLE=REQ-PARTICIPANT:Veit Schiele
ATTENDEE;CN="Kristian Rother";ROLE=REQ-PARTICIPANT:Kristian Rother
ATTENDEE;CN="Tim Weber";ROLE=REQ-PARTICIPANT:Tim Weber
ATTENDEE;CN="Frank Hofmann";ROLE=REQ-PARTICIPANT:Frank Hofmann
CATEGORIES:Agile Entwciklung,Data Science,Data Engineering,Python,Training
 ,Featured
CONTACT:Veit Schiele\, +49 30 22430082\, info@cusy.io
CREATED;VALUE=DATE-TIME:20240330T113355Z
LAST-MODIFIED;VALUE=DATE-TIME:20240404T080728Z
LOCATION:Kreativpark Lokhalle Freiburg\, Paul-Ehrlich-Straße 5-13\, 79106
  Freiburg im Breisgau
URL:https://old.cusy.io/de/ueber/trefft-uns/fastapi-sprint-2024-freiburg
END:VEVENT
END:VCALENDAR
