BEGIN:VCALENDAR
VERSION:2.0
PRODID:-//Plone.org//NONSGML plone.app.event//EN
X-WR-TIMEZONE:Europe/Berlin
BEGIN:VEVENT
SUMMARY:enterPy vom 25.–26. Mai 2020
DTSTART;TZID=Europe/Berlin;VALUE=DATE-TIME:20200525T100000
DTEND;TZID=Europe/Berlin;VALUE=DATE-TIME:20200526T180000
DTSTAMP;VALUE=DATE-TIME:20260422T133357Z
UID:7a5f5d2d74fb439597ddfb19cc29c7c9@old.cusy.io
CONTACT:Veit Schiele\, +49 30 22430082\, info@cusy.io
CREATED;VALUE=DATE-TIME:20210610T100250Z
LAST-MODIFIED;VALUE=DATE-TIME:20200328T111612Z
URL:https://old.cusy.io/de/ueber/trefft-uns/enterpy-vom-25-26-mai2020
END:VEVENT
BEGIN:VTIMEZONE
TZID:Europe/Berlin
X-LIC-LOCATION:Europe/Berlin
BEGIN:DAYLIGHT
DTSTART;VALUE=DATE-TIME:20200329T030000
TZNAME:CEST
TZOFFSETFROM:+0100
TZOFFSETTO:+0200
END:DAYLIGHT
END:VTIMEZONE
END:VCALENDAR
