BEGIN:VCALENDAR
VERSION:2.0
PRODID:-//Plone.org//NONSGML plone.app.event//EN
X-WR-TIMEZONE:Europe/Berlin
BEGIN:VEVENT
SUMMARY:enterPy vom 23.–24. November 2020
DTSTART;TZID=Europe/Berlin;VALUE=DATE-TIME:20201123T100000
DTEND;TZID=Europe/Berlin;VALUE=DATE-TIME:20201124T180000
DTSTAMP;VALUE=DATE-TIME:20260422T133435Z
UID:e11214a230d54078995e36e184bcdc02@old.cusy.io
CONTACT:Veit Schiele\, +49 30 22430082\, info@cusy.io
CREATED;VALUE=DATE-TIME:20210610T100250Z
LAST-MODIFIED;VALUE=DATE-TIME:20201206T001050Z
LOCATION:Print Media Academy\, Kurfürsten-Anlage 60\, 69115 Heidelberg
URL:https://old.cusy.io/de/ueber/trefft-uns/enterpy-vom-23-24-november-202
 0
END:VEVENT
BEGIN:VTIMEZONE
TZID:Europe/Berlin
X-LIC-LOCATION:Europe/Berlin
BEGIN:STANDARD
DTSTART;VALUE=DATE-TIME:20201025T020000
TZNAME:CET
TZOFFSETFROM:+0200
TZOFFSETTO:+0100
END:STANDARD
END:VTIMEZONE
END:VCALENDAR
