BEGIN:VCALENDAR
VERSION:2.0
PRODID:-//Plone.org//NONSGML plone.app.event//EN
X-WR-TIMEZONE:Europe/Berlin
BEGIN:VEVENT
SUMMARY:enterPy am 6. Mai 2021
DTSTART;TZID=Europe/Berlin;VALUE=DATE-TIME:20210506T090000
DTEND;TZID=Europe/Berlin;VALUE=DATE-TIME:20210506T164500
DTSTAMP;VALUE=DATE-TIME:20260422T133230Z
UID:c2a0dc5cb0be480d945481893a9bc148@old.cusy.io
ATTENDEE;CN="Frank Hofmann";ROLE=REQ-PARTICIPANT:Frank Hofmann
CATEGORIES:Featured
CONTACT:Veit Schiele\, +49 30 22430082\, info@cusy.io
CREATED;VALUE=DATE-TIME:20210610T100249Z
DESCRIPTION:Die enterPy ist eine Konferenz für Python in Business\, Web u
 nd DevOps. Sie wendet sich an Fachleute\, die Python produktiv im Unterneh
 men einsetzen oder dies beabsichtigen\, weil sie das Potenzial der Program
 miersprache in der Datenanalyse\, dem Machine Learning\, der Web-Programmi
 erung oder auch im DevOps-Umfeld ausschöpfen möchten.
LAST-MODIFIED;VALUE=DATE-TIME:20210510T080310Z
URL:https://old.cusy.io/de/ueber/trefft-uns/enterpy-am-6-mai-2021
END:VEVENT
BEGIN:VTIMEZONE
TZID:Europe/Berlin
X-LIC-LOCATION:Europe/Berlin
BEGIN:DAYLIGHT
DTSTART;VALUE=DATE-TIME:20210328T030000
TZNAME:CEST
TZOFFSETFROM:+0100
TZOFFSETTO:+0200
END:DAYLIGHT
END:VTIMEZONE
END:VCALENDAR
