BEGIN:VCALENDAR
VERSION:2.0
PRODID:-//Plone.org//NONSGML plone.app.event//EN
X-WR-TIMEZONE:Europe/Berlin
BEGIN:VEVENT
SUMMARY:DevOps-Sprint\, Halle
DTSTART;TZID=Europe/Berlin;VALUE=DATE-TIME:20160928T090000
DTEND;TZID=Europe/Berlin;VALUE=DATE-TIME:20160930T170000
DTSTAMP;VALUE=DATE-TIME:20260422T200428Z
UID:493f0248a5f8425dac3f8ff62fa018c3@old.cusy.io
ATTENDEE;CN="Veit Schiele";ROLE=REQ-PARTICIPANT:Veit Schiele
ATTENDEE;CN="Michael Hierweck";ROLE=REQ-PARTICIPANT:Michael Hierweck
ATTENDEE;CN="Peter Hormanns";ROLE=REQ-PARTICIPANT:Peter Hormanns
CONTACT:Veit Schiele\, +49 30 8185667-1\, info@cusy.io
CREATED;VALUE=DATE-TIME:20210610T100249Z
LAST-MODIFIED;VALUE=DATE-TIME:20210815T154524Z
LOCATION:Flying Circus GmbH\, Forsterstraße 29\, 06112 Halle (Saale)
URL:https://old.cusy.io/de/ueber/trefft-uns/devops-sprint-halle
END:VEVENT
BEGIN:VTIMEZONE
TZID:Europe/Berlin
X-LIC-LOCATION:Europe/Berlin
BEGIN:DAYLIGHT
DTSTART;VALUE=DATE-TIME:20160327T030000
TZNAME:CEST
TZOFFSETFROM:+0100
TZOFFSETTO:+0200
END:DAYLIGHT
END:VTIMEZONE
END:VCALENDAR
