BEGIN:VCALENDAR
VERSION:2.0
PRODID:-//Plone.org//NONSGML plone.app.event//EN
X-WR-TIMEZONE:Europe/Berlin
BEGIN:VEVENT
SUMMARY:DevOps Camp 2016 in Nürnberg
DTSTART;TZID=Europe/Berlin;VALUE=DATE-TIME:20160506T190000
DTEND;TZID=Europe/Berlin;VALUE=DATE-TIME:20160508T170000
DTSTAMP;VALUE=DATE-TIME:20260422T133104Z
UID:f13a7b9bfb9d4252ad77e5de02a04528@old.cusy.io
ATTENDEE;CN="Peter Hormanns";ROLE=REQ-PARTICIPANT:Peter Hormanns
CONTACT:Veit Schiele\, +49 30 8185667-1\, info@cusy.io
CREATED;VALUE=DATE-TIME:20210610T100249Z
DESCRIPTION:Das DevOps Camp in Nürnberg ist ein BarCamp mit den Themensch
 werpunkten Administration und Entwicklung.
LAST-MODIFIED;VALUE=DATE-TIME:20160502T113448Z
LOCATION:z-bau Nürnberg\, Frankenstraße 200\, 90461 Nürnberg
URL:https://old.cusy.io/de/ueber/trefft-uns/devops-camp-2016-in-nuernberg
END:VEVENT
BEGIN:VTIMEZONE
TZID:Europe/Berlin
X-LIC-LOCATION:Europe/Berlin
BEGIN:DAYLIGHT
DTSTART;VALUE=DATE-TIME:20160327T030000
TZNAME:CEST
TZOFFSETFROM:+0100
TZOFFSETTO:+0200
END:DAYLIGHT
END:VTIMEZONE
END:VCALENDAR
