BEGIN:VCALENDAR
VERSION:2.0
PRODID:-//Plone.org//NONSGML plone.app.event//EN
X-WR-TIMEZONE:Europe/Berlin
BEGIN:VEVENT
SUMMARY:Cusy’s First Birthday 🎂 🙌 🎉
DTSTART;TZID=Europe/Berlin;VALUE=DATE-TIME:20160929T190000
DTEND;TZID=Europe/Berlin;VALUE=DATE-TIME:20160930T000000
DTSTAMP;VALUE=DATE-TIME:20260422T150840Z
UID:4dde2a478b75428e8c528bdb3248508a@old.cusy.io
ATTENDEE;CN="Veit Schiele";ROLE=REQ-PARTICIPANT:Veit Schiele
ATTENDEE;CN="Peter Hormanns";ROLE=REQ-PARTICIPANT:Peter Hormanns
ATTENDEE;CN="Michael Hierweck";ROLE=REQ-PARTICIPANT:Michael Hierweck
CONTACT:Veit Schiele\, +49 30 8185667-1\, info@cusy.io
CREATED;VALUE=DATE-TIME:20210610T100248Z
LAST-MODIFIED;VALUE=DATE-TIME:20210815T200628Z
LOCATION:Buca Di Bacco\, Kleine Ulrichstraße 21 06108 Halle (Saale)
URL:https://old.cusy.io/de/ueber/trefft-uns/cusy2019s-first-birthday
END:VEVENT
BEGIN:VTIMEZONE
TZID:Europe/Berlin
X-LIC-LOCATION:Europe/Berlin
BEGIN:DAYLIGHT
DTSTART;VALUE=DATE-TIME:20160327T030000
TZNAME:CEST
TZOFFSETFROM:+0100
TZOFFSETTO:+0200
END:DAYLIGHT
END:VTIMEZONE
END:VCALENDAR
