BEGIN:VCALENDAR
VERSION:2.0
PRODID:-//Plone.org//NONSGML plone.app.event//EN
X-WR-TIMEZONE:Europe/Berlin
BEGIN:VEVENT
SUMMARY:cusy Sprint Oktober 2023
DTSTART;VALUE=DATE:20231004
DTEND;VALUE=DATE:20231005
DTSTAMP;VALUE=DATE-TIME:20260422T133404Z
UID:d3da6579980e4fc0959d0ddec6927337@old.cusy.io
RRULE:FREQ=DAILY;COUNT=3
ATTENDEE;CN="Veit Schiele";ROLE=REQ-PARTICIPANT:Veit Schiele
ATTENDEE;CN="Kristian Rother";ROLE=REQ-PARTICIPANT:Kristian Rother
ATTENDEE;CN="Frank Hofmann";ROLE=REQ-PARTICIPANT:Frank Hofmann
ATTENDEE;CN="Michael Hierweck";ROLE=REQ-PARTICIPANT:Michael Hierweck
ATTENDEE;CN="Tim Weber";ROLE=REQ-PARTICIPANT:Tim Weber
CATEGORIES:Featured
CONTACT:Veit Schiele\, +49 30 22430082\, info@cusy.io
CREATED;VALUE=DATE-TIME:20210610T100247Z
DESCRIPTION:Vom 4. bis 6. Oktober trifft sich das cusy-Team in Freiburg.
LAST-MODIFIED;VALUE=DATE-TIME:20230913T160612Z
LOCATION:Augustinerplatz\, Freiburg
URL:https://old.cusy.io/de/ueber/trefft-uns/cusy-sprint-oktober-2023
END:VEVENT
END:VCALENDAR
