BEGIN:VCALENDAR
VERSION:2.0
PRODID:-//Plone.org//NONSGML plone.app.event//EN
X-WR-TIMEZONE:Europe/Berlin
BEGIN:VEVENT
SUMMARY:cusy Maps Sprint in Freiburg
DTSTART;TZID=Europe/Berlin;VALUE=DATE-TIME:20250219T090000
DTEND;TZID=Europe/Berlin;VALUE=DATE-TIME:20250219T160000
DTSTAMP;VALUE=DATE-TIME:20260422T133404Z
UID:c72d169baa914ce39a5b27b9b4940831@old.cusy.io
RRULE:FREQ=DAILY;COUNT=3
ATTENDEE;CN="Veit Schiele";ROLE=REQ-PARTICIPANT:Veit Schiele
ATTENDEE;CN="Tim Weber";ROLE=REQ-PARTICIPANT:Tim Weber
ATTENDEE;CN="Maris Nieuwenhuis";ROLE=REQ-PARTICIPANT:Maris Nieuwenhuis
CONTACT:Veit Schiele\, +49 30 22430082\, info@cusy.io\, https://maps.cusy.
 io
CREATED;VALUE=DATE-TIME:20250124T125115Z
DESCRIPTION:Vom 19. bis 21. Februar findet ein Sprint zu unserem neuen Kar
 tenservice statt.
LAST-MODIFIED;VALUE=DATE-TIME:20250218T090454Z
LOCATION:Freiburg\, Germany und Remote
URL:https://old.cusy.io/de/ueber/trefft-uns/cusy-maps-sprint-in-freiburg
END:VEVENT
BEGIN:VTIMEZONE
TZID:Europe/Berlin
X-LIC-LOCATION:Europe/Berlin
BEGIN:STANDARD
DTSTART;VALUE=DATE-TIME:20241027T020000
TZNAME:CET
TZOFFSETFROM:+0200
TZOFFSETTO:+0100
END:STANDARD
END:VTIMEZONE
END:VCALENDAR
