BEGIN:VCALENDAR
VERSION:2.0
PRODID:-//Plone.org//NONSGML plone.app.event//EN
X-WR-TIMEZONE:Europe/Berlin
BEGIN:VEVENT
SUMMARY:Cusy DevOps Sprint in Berlin
DTSTART;TZID=Europe/Berlin;VALUE=DATE-TIME:20160523T090000
DTEND;TZID=Europe/Berlin;VALUE=DATE-TIME:20160525T190000
DTSTAMP;VALUE=DATE-TIME:20260422T133036Z
UID:1880a09da2d84fdd84761ec7871dc577@old.cusy.io
ATTENDEE;CN="Veit Schiele";ROLE=REQ-PARTICIPANT:Veit Schiele
ATTENDEE;CN="Peter Hormanns";ROLE=REQ-PARTICIPANT:Peter Hormanns
ATTENDEE;CN="Michael Hierweck";ROLE=REQ-PARTICIPANT:Michael Hierweck
ATTENDEE;CN="Jan Ulrich Hasecke";ROLE=REQ-PARTICIPANT:Jan Ulrich Hasecke
ATTENDEE;CN="André Henze";ROLE=REQ-PARTICIPANT:André Henze
ATTENDEE;CN="Christian Theune";ROLE=REQ-PARTICIPANT:Christian Theune
CONTACT:Veit Schiele\, +49 30 8185667-1\, info@cusy.io
CREATED;VALUE=DATE-TIME:20210610T100248Z
LAST-MODIFIED;VALUE=DATE-TIME:20210815T200724Z
LOCATION:Veit Schiele Communications GmbH\, Mansteinstr. 7\, D-10783 Berli
 n
URL:https://old.cusy.io/de/ueber/trefft-uns/cusy-devops-sprint-in-berlin
END:VEVENT
BEGIN:VTIMEZONE
TZID:Europe/Berlin
X-LIC-LOCATION:Europe/Berlin
BEGIN:DAYLIGHT
DTSTART;VALUE=DATE-TIME:20160327T030000
TZNAME:CEST
TZOFFSETFROM:+0100
TZOFFSETTO:+0200
END:DAYLIGHT
END:VTIMEZONE
END:VCALENDAR
