BEGIN:VCALENDAR
VERSION:2.0
PRODID:-//Plone.org//NONSGML plone.app.event//EN
X-WR-TIMEZONE:Europe/Berlin
BEGIN:VEVENT
SUMMARY:Cusy DevOps Sprint in Berlin
DTSTART;TZID=Europe/Berlin;VALUE=DATE-TIME:20170510T090000
DTEND;TZID=Europe/Berlin;VALUE=DATE-TIME:20170512T190000
DTSTAMP;VALUE=DATE-TIME:20260422T133033Z
UID:3e9cc3fef5ec4daba5ea4c3cf4574ce1@old.cusy.io
ATTENDEE;CN="Veit Schiele";ROLE=REQ-PARTICIPANT:Veit Schiele
ATTENDEE;CN="Peter Hormanns";ROLE=REQ-PARTICIPANT:Peter Hormanns
ATTENDEE;CN="Michael Hierweck";ROLE=REQ-PARTICIPANT:Michael Hierweck
CONTACT:Veit Schiele\, +49 30 22430082\, info@cusy.io
CREATED;VALUE=DATE-TIME:20210610T100248Z
LAST-MODIFIED;VALUE=DATE-TIME:20180521T150118Z
LOCATION:Veit Schiele Communications GmbH\, Mansteinstr. 7\, D-10783 Berli
 n
URL:https://old.cusy.io/de/ueber/trefft-uns/cusy-devops-sprint-berlin-05-2
 017
END:VEVENT
BEGIN:VTIMEZONE
TZID:Europe/Berlin
X-LIC-LOCATION:Europe/Berlin
BEGIN:DAYLIGHT
DTSTART;VALUE=DATE-TIME:20170326T030000
TZNAME:CEST
TZOFFSETFROM:+0100
TZOFFSETTO:+0200
END:DAYLIGHT
END:VTIMEZONE
END:VCALENDAR
