BEGIN:VCALENDAR
VERSION:2.0
PRODID:-//Plone.org//NONSGML plone.app.event//EN
X-WR-TIMEZONE:Europe/Berlin
BEGIN:VEVENT
SUMMARY:CoSin 2023
DTSTART;VALUE=DATE:20230616
DTEND;VALUE=DATE:20230619
DTSTAMP;VALUE=DATE-TIME:20260422T133124Z
UID:7d6bdf02e33a44059f08f373f3f17f15@old.cusy.io
ATTENDEE;CN="Frank Hofmann";ROLE=REQ-PARTICIPANT:Frank Hofmann
CATEGORIES:Featured
CONTACT:Veit Schiele\, +49 30 22430082\, info@cusy.io\, https://www.cosin.
 ch/de/
CREATED;VALUE=DATE-TIME:20210610T100247Z
DESCRIPTION:Wir sind vom 16. bis 18. Juni 2023 auf der CoSin in  und freue
 n uns auf spannende Gespräche mit euch.
LAST-MODIFIED;VALUE=DATE-TIME:20230615T192945Z
LOCATION:Villa Ritter in Biel/Bienne
URL:https://old.cusy.io/de/ueber/trefft-uns/cosin-2023
END:VEVENT
END:VCALENDAR
