BEGIN:VCALENDAR
VERSION:2.0
PRODID:-//Plone.org//NONSGML plone.app.event//EN
X-WR-TIMEZONE:Europe/Berlin
BEGIN:VEVENT
SUMMARY:CMS-Garden UnConference\, Essen
DTSTART;TZID=Europe/Berlin;VALUE=DATE-TIME:20151030T060000
DTEND;TZID=Europe/Berlin;VALUE=DATE-TIME:20151101T040000
DTSTAMP;VALUE=DATE-TIME:20260422T133237Z
UID:dee140af72b446e4852e761cc7d0f407@old.cusy.io
ATTENDEE;CN="Veit Schiele";ROLE=REQ-PARTICIPANT:Veit Schiele
ATTENDEE;CN="Michael Hierweck";ROLE=REQ-PARTICIPANT:Michael Hierweck
ATTENDEE;CN="Peter Hormanns";ROLE=REQ-PARTICIPANT:Peter Hormanns
CONTACT:Veit Schiele\, +49 30 8185667-1\, info@cusy.io
CREATED;VALUE=DATE-TIME:20210610T100248Z
LAST-MODIFIED;VALUE=DATE-TIME:20210815T135720Z
LOCATION:Unperfekthaus (UPH)\, Essen
URL:https://old.cusy.io/de/ueber/trefft-uns/cms-garden-unconference-essen
END:VEVENT
BEGIN:VTIMEZONE
TZID:Europe/Berlin
X-LIC-LOCATION:Europe/Berlin
BEGIN:STANDARD
DTSTART;VALUE=DATE-TIME:20151025T020000
TZNAME:CET
TZOFFSETFROM:+0200
TZOFFSETTO:+0100
END:STANDARD
END:VTIMEZONE
END:VCALENDAR
