BEGIN:VCALENDAR
VERSION:2.0
PRODID:-//Plone.org//NONSGML plone.app.event//EN
X-WR-TIMEZONE:Europe/Berlin
BEGIN:VEVENT
SUMMARY:CMS-Garden UnConference\, Essen
DTSTART;TZID=Europe/Berlin;VALUE=DATE-TIME:20161125T090000
DTEND;TZID=Europe/Berlin;VALUE=DATE-TIME:20161127T170000
DTSTAMP;VALUE=DATE-TIME:20260422T133243Z
UID:3f834283b5e64ce9b10331c40ed43978@old.cusy.io
ATTENDEE;CN="Veit Schiele";ROLE=REQ-PARTICIPANT:Veit Schiele
CONTACT:Veit Schiele\, +49 30 8185667-1\, info@cusy.io
CREATED;VALUE=DATE-TIME:20210610T100247Z
LAST-MODIFIED;VALUE=DATE-TIME:20210815T135619Z
LOCATION:Unperfekthaus (UPH)\, Essen
URL:https://old.cusy.io/de/ueber/trefft-uns/cms-garden-unconference-2016-e
 ssen
END:VEVENT
BEGIN:VTIMEZONE
TZID:Europe/Berlin
X-LIC-LOCATION:Europe/Berlin
BEGIN:STANDARD
DTSTART;VALUE=DATE-TIME:20161030T020000
TZNAME:CET
TZOFFSETFROM:+0200
TZOFFSETTO:+0100
END:STANDARD
END:VTIMEZONE
END:VCALENDAR
