BEGIN:VCALENDAR
VERSION:2.0
PRODID:-//Plone.org//NONSGML plone.app.event//EN
X-WR-TIMEZONE:Europe/Berlin
BEGIN:VEVENT
SUMMARY:Chemnitzer Linux-Tage (CLT) 2016
DTSTART;TZID=Europe/Berlin;VALUE=DATE-TIME:20160319T083000
DTEND;TZID=Europe/Berlin;VALUE=DATE-TIME:20160320T180000
DTSTAMP;VALUE=DATE-TIME:20260422T133212Z
UID:33e6e8945d484211b08782c2695e5b08@old.cusy.io
ATTENDEE;CN="Peter Hormanns";ROLE=REQ-PARTICIPANT:Peter Hormanns
ATTENDEE;CN="Veit Schiele";ROLE=REQ-PARTICIPANT:Veit Schiele
CONTACT:Veit Schiele\, +49 30 8185667-1\, info@cusy.io
CREATED;VALUE=DATE-TIME:20210610T100247Z
DESCRIPTION:Das Team von Cusy besucht die Chemnitzer Linuxtage am 19. und 
 20. März 2016 und freut sich auf spannende Gespräche.
LAST-MODIFIED;VALUE=DATE-TIME:20210909T094147Z
LOCATION:Zentrales Hörsaal- und Seminargebäude der TU Chemnitz\, Reichen
 hainer Straße 90
URL:https://old.cusy.io/de/ueber/trefft-uns/chemnitzer-linux-tage-clt-2016
END:VEVENT
BEGIN:VTIMEZONE
TZID:Europe/Berlin
X-LIC-LOCATION:Europe/Berlin
BEGIN:STANDARD
DTSTART;VALUE=DATE-TIME:20151025T020000
TZNAME:CET
TZOFFSETFROM:+0200
TZOFFSETTO:+0100
END:STANDARD
END:VTIMEZONE
END:VCALENDAR
