BEGIN:VCALENDAR
VERSION:2.0
PRODID:-//Plone.org//NONSGML plone.app.event//EN
X-WR-TIMEZONE:Europe/Berlin
BEGIN:VEVENT
SUMMARY:CLT2022 · Chemnitzer Linux-Tage 2022
DTSTART;VALUE=DATE:20220312
DTEND;VALUE=DATE:20220314
DTSTAMP;VALUE=DATE-TIME:20260422T133124Z
UID:ab6109f781984c5ba8c96f3c7d625762@old.cusy.io
ATTENDEE;CN="Thomas Massmann";ROLE=REQ-PARTICIPANT:Thomas Massmann
ATTENDEE;CN="Veit Schiele";ROLE=REQ-PARTICIPANT:Veit Schiele
CONTACT:Veit Schiele\, +49 30 22430082\, info@cusy.io
CREATED;VALUE=DATE-TIME:20210610T100247Z
DESCRIPTION:Wir sind am 12. und 13. März 2022 auf den Chemnitzer Linuxtag
 en und freuen uns auf spannende Gespräche mit euch.
LAST-MODIFIED;VALUE=DATE-TIME:20220311T111222Z
LOCATION:Online
URL:https://old.cusy.io/de/ueber/trefft-uns/chemnitzer-linux-tage-2022
END:VEVENT
END:VCALENDAR
