BEGIN:VCALENDAR
VERSION:2.0
PRODID:-//Plone.org//NONSGML plone.app.event//EN
X-WR-TIMEZONE:Europe/Berlin
BEGIN:VEVENT
SUMMARY:Chemnitzer Linux-Tage (CLT)
DTSTART;TZID=Europe/Berlin;VALUE=DATE-TIME:20170311T083000
DTEND;TZID=Europe/Berlin;VALUE=DATE-TIME:20170312T180000
DTSTAMP;VALUE=DATE-TIME:20260422T133023Z
UID:fdd8837065764ff6895beb024ca3a6c2@old.cusy.io
ATTENDEE;CN="Peter Hormanns";ROLE=REQ-PARTICIPANT:Peter Hormanns
ATTENDEE;CN="Veit Schiele";ROLE=REQ-PARTICIPANT:Veit Schiele
CONTACT:Veit Schiele\, +49 30 22430082\, info@cusy.io
CREATED;VALUE=DATE-TIME:20210610T100247Z
DESCRIPTION:Das Team von Cusy besucht die Chemnitzer Linuxtage am 11. und 
 12. März 2017 und freut sich auf spannende Gespräche.
LAST-MODIFIED;VALUE=DATE-TIME:20210707T143826Z
LOCATION:Zentrales Hörsaal- und Seminargebäude der TU Chemnitz\, Reichen
 hainer Straße 90
URL:https://old.cusy.io/de/ueber/trefft-uns/chemnitzer-linux-tage-2017
END:VEVENT
BEGIN:VTIMEZONE
TZID:Europe/Berlin
X-LIC-LOCATION:Europe/Berlin
BEGIN:STANDARD
DTSTART;VALUE=DATE-TIME:20161030T020000
TZNAME:CET
TZOFFSETFROM:+0200
TZOFFSETTO:+0100
END:STANDARD
END:VTIMEZONE
END:VCALENDAR
