BEGIN:VCALENDAR
VERSION:2.0
PRODID:-//Plone.org//NONSGML plone.app.event//EN
X-WR-TIMEZONE:Europe/Berlin
BEGIN:VEVENT
SUMMARY:Atlassian User Group Berlin-Brandenburg\, 18. Juli 2017
DTSTART;TZID=Europe/Berlin;VALUE=DATE-TIME:20170718T183000
DTEND;TZID=Europe/Berlin;VALUE=DATE-TIME:20170718T220000
DTSTAMP;VALUE=DATE-TIME:20260422T133123Z
UID:b39d36ea08f74700a389809e3139d240@old.cusy.io
ATTENDEE;CN="Veit Schiele";ROLE=REQ-PARTICIPANT:Veit Schiele
CONTACT:Veit Schiele\, +49 30 22430082\, info@cusy.io
CREATED;VALUE=DATE-TIME:20210610T100247Z
LAST-MODIFIED;VALUE=DATE-TIME:20180521T150054Z
LOCATION:Wird noch bekanntgegeben
URL:https://old.cusy.io/de/ueber/trefft-uns/aug-bb_2017-08-18
END:VEVENT
BEGIN:VTIMEZONE
TZID:Europe/Berlin
X-LIC-LOCATION:Europe/Berlin
BEGIN:DAYLIGHT
DTSTART;VALUE=DATE-TIME:20170326T030000
TZNAME:CEST
TZOFFSETFROM:+0100
TZOFFSETTO:+0200
END:DAYLIGHT
END:VTIMEZONE
END:VCALENDAR
