BEGIN:VCALENDAR
VERSION:2.0
PRODID:-//Plone.org//NONSGML plone.app.event//EN
X-WR-TIMEZONE:Europe/Berlin
BEGIN:VEVENT
SUMMARY:Atlassian User Group Berlin-Brandenburg
DTSTART;TZID=Europe/Berlin;VALUE=DATE-TIME:20170118T183000
DTEND;TZID=Europe/Berlin;VALUE=DATE-TIME:20170118T220000
DTSTAMP;VALUE=DATE-TIME:20260422T133311Z
UID:8bbd6573833e47e093111c686053d993@old.cusy.io
ATTENDEE;CN="Veit Schiele";ROLE=REQ-PARTICIPANT:Veit Schiele
CONTACT:Veit Schiele\, +49 30 22430082\, info@cusy.io
CREATED;VALUE=DATE-TIME:20210610T100246Z
LAST-MODIFIED;VALUE=DATE-TIME:20180521T150033Z
LOCATION:HERE Deutschland | Invalidenstr. 116\, 10115 Berlin
URL:https://old.cusy.io/de/ueber/trefft-uns/atlassian-user-group-berlin-br
 andenburg
END:VEVENT
BEGIN:VTIMEZONE
TZID:Europe/Berlin
X-LIC-LOCATION:Europe/Berlin
BEGIN:STANDARD
DTSTART;VALUE=DATE-TIME:20161030T020000
TZNAME:CET
TZOFFSETFROM:+0200
TZOFFSETTO:+0100
END:STANDARD
END:VTIMEZONE
END:VCALENDAR
