BEGIN:VCALENDAR
VERSION:2.0
PRODID:-//Plone.org//NONSGML plone.app.event//EN
X-WR-TIMEZONE:Europe/Berlin
BEGIN:VEVENT
SUMMARY:AK Web des ZKI
DTSTART;TZID=Europe/Berlin;VALUE=DATE-TIME:20161005T130000
DTEND;TZID=Europe/Berlin;VALUE=DATE-TIME:20161006T130000
DTSTAMP;VALUE=DATE-TIME:20260422T133122Z
UID:6748a2cddd3442f2a3067032dc75fcf6@old.cusy.io
ATTENDEE;CN="Veit Schiele";ROLE=REQ-PARTICIPANT:Veit Schiele
CONTACT:Veit Schiele\, +49 30 8185667-1\, info@cusy.io
CREATED;VALUE=DATE-TIME:20210610T100246Z
LAST-MODIFIED;VALUE=DATE-TIME:20161005T144117Z
LOCATION:Zentrales Hörsaal-Gebäude (ZH): H6
URL:https://old.cusy.io/de/ueber/trefft-uns/ak-web-des-zki
END:VEVENT
BEGIN:VTIMEZONE
TZID:Europe/Berlin
X-LIC-LOCATION:Europe/Berlin
BEGIN:DAYLIGHT
DTSTART;VALUE=DATE-TIME:20160327T030000
TZNAME:CEST
TZOFFSETFROM:+0100
TZOFFSETTO:+0200
END:DAYLIGHT
END:VTIMEZONE
END:VCALENDAR
