BEGIN:VCALENDAR
VERSION:2.0
PRODID:-//Plone.org//NONSGML plone.app.event//EN
X-WR-TIMEZONE:Europe/Berlin
BEGIN:VEVENT
SUMMARY:6. Bremer IT-Sicherheitstag
DTSTART;TZID=Europe/Berlin;VALUE=DATE-TIME:20160901T090000
DTEND;TZID=Europe/Berlin;VALUE=DATE-TIME:20160901T170000
DTSTAMP;VALUE=DATE-TIME:20260422T133456Z
UID:5b20b094a32b4d3184382fc888f7f883@old.cusy.io
ATTENDEE;CN="Veit Schiele";ROLE=REQ-PARTICIPANT:Veit Schiele
CONTACT:Veit Schiele\, +49 30 8185667-1\, info@cusy.io
CREATED;VALUE=DATE-TIME:20210610T100246Z
LAST-MODIFIED;VALUE=DATE-TIME:20160824T144540Z
LOCATION:Hochschule Bremen Zentrum für Informatik und Medientechnologien 
 (ZIMT)  Flughafenallee 10 28199 Bremen
URL:https://old.cusy.io/de/ueber/trefft-uns/6-bremer-it-sicherheitstag
END:VEVENT
BEGIN:VTIMEZONE
TZID:Europe/Berlin
X-LIC-LOCATION:Europe/Berlin
BEGIN:DAYLIGHT
DTSTART;VALUE=DATE-TIME:20160327T030000
TZNAME:CEST
TZOFFSETFROM:+0100
TZOFFSETTO:+0200
END:DAYLIGHT
END:VTIMEZONE
END:VCALENDAR
