BEGIN:VCALENDAR
VERSION:2.0
PRODID:-//Plone.org//NONSGML plone.app.event//EN
X-WR-TIMEZONE:Europe/Berlin
BEGIN:VEVENT
SUMMARY:20. FrOSCon
DTSTART;VALUE=DATE:20250816
DTEND;VALUE=DATE:20250817
DTSTAMP;VALUE=DATE-TIME:20260422T133215Z
UID:00df1da4952d469eacd2745101195a81@old.cusy.io
RRULE:FREQ=DAILY;COUNT=2
ATTENDEE;CN="Veit Schiele";ROLE=REQ-PARTICIPANT:Veit Schiele
CATEGORIES:Featured
CONTACT:Veit Schiele\, +49 30 22430082\, info@cusy.io\, https://froscon.or
 g/
CREATED;VALUE=DATE-TIME:20210610T100247Z
DESCRIPTION:Wir sind am 16. und 17. August 2025 auf der FrOSCon in St. Aug
 ustin und freuen uns auf spannende Gespräche mit euch.
LAST-MODIFIED;VALUE=DATE-TIME:20250606T140300Z
LOCATION:Hochschule Bonn-Rhein-Sieg - Campus Sankt Augustin\, Grantham-All
 ee 20\, 53757 Sankt Augustin\, Deutschland
URL:https://old.cusy.io/de/ueber/trefft-uns/20-froscon
END:VEVENT
END:VCALENDAR
